BEGIN:VCALENDAR
VERSION:2.0
PRODID:-//bit Informatik GmbH - ECPv4.9.13//NONSGML v1.0//EN
CALSCALE:GREGORIAN
METHOD:PUBLISH
X-WR-CALNAME:bit Informatik GmbH
X-ORIGINAL-URL:https://www.bit-informatik.de
X-WR-CALDESC:Veranstaltungen im bit Informatik GmbH
BEGIN:VTIMEZONE
TZID:Europe/Berlin
BEGIN:DAYLIGHT
TZOFFSETFROM:+0100
TZOFFSETTO:+0200
TZNAME:CEST
DTSTART:20210328T010000
END:DAYLIGHT
BEGIN:STANDARD
TZOFFSETFROM:+0200
TZOFFSETTO:+0100
TZNAME:CET
DTSTART:20211031T010000
END:STANDARD
END:VTIMEZONE
BEGIN:VEVENT
DTSTART;TZID=Europe/Berlin:20210826T100000
DTEND;TZID=Europe/Berlin:20210826T120000
DTSTAMP:20210720T023025
CREATED:20210625T080135Z
LAST-MODIFIED:20210625T122252Z
UID:10446-1629972000-1629979200@www.bit-informatik.de
SUMMARY:IT-Notfallmanagement mit bit-MaRisk
DESCRIPTION:Durch die Novellierung der MaRisk und BAIT werden die Anforderungen an ein angemessenes IT-Notfallmanagement deutlich verschärft. Insbesondere die Dokumentation von strukturierten Notfallplänen und der Durchführung von Notfalltests stellt viele Institute vor große Herausforderungen. \nIn unserem Webinar möchten wir\, die bit informatik GmbH\, und Schomerus & Partner Ihnen die Möglichkeiten zur Einrichtung eines BAIT-konformen IT-Notfallmanagements vorstellen und praxisnahe Hinweise für die Umsetzung geben. \nTermin: 09. Juli 2021\nUhrzeit: 10.00 – 12:00 Uhr per GoTo Meeting\nKosten: Die Veranstaltung ist kostenfrei!\nTermin: 26. August 2021\nUhrzeit: 10.00 – 12:00 Uhr per GoTo Meeting\nKosten: Die Veranstaltung ist kostenfrei!\nTermin: 17. September 2021\nUhrzeit: 10.00 – 12:00 Uhr per GoTo Meeting\nKosten: Die Veranstaltung ist kostenfrei! \nAgenda: \n(1) Einführung\nDozent Herr Roland Hein \n(2) Anforderungen der MaRisk und BAIT an das IT-Notfallmanagement\nDozent Herr Thomas Schulte \n(3) Projektbegleitung im IT-Notfallmanagement\nDozent Herr Dr. Sebastian Brauer \n(4) IT-Notfallmanagement in bit-MaRisk\nDozent Herr Roland Hein \n(5) Beantwortung von Fragen der Teilnehmer/innen \nIm Anschluss zum Webinar erhalten Sie die von uns verwendeten Präsentationen.  \nWir freuen uns\, Sie als Teilnehmer/-in unseres Webinars begrüßen zu dürfen!  \nGrüße aus Trier sowie Hamburg und bleiben Sie gesund. \n
URL:https://www.bit-informatik.de/event/it-notfallmanagement-mit-bit-marisk-2/
END:VEVENT
BEGIN:VEVENT
DTSTART;TZID=Europe/Berlin:20210917T100000
DTEND;TZID=Europe/Berlin:20210917T120000
DTSTAMP:20210720T023025
CREATED:20210625T080704Z
LAST-MODIFIED:20210625T122223Z
UID:10452-1631872800-1631880000@www.bit-informatik.de
SUMMARY:IT-Notfallmanagement mit bit-MaRisk
DESCRIPTION:Durch die Novellierung der MaRisk und BAIT werden die Anforderungen an ein angemessenes IT-Notfallmanagement deutlich verschärft. Insbesondere die Dokumentation von strukturierten Notfallplänen und der Durchführung von Notfalltests stellt viele Institute vor große Herausforderungen. \nIn unserem Webinar möchten wir\, die bit informatik GmbH\, und Schomerus & Partner Ihnen die Möglichkeiten zur Einrichtung eines BAIT-konformen IT-Notfallmanagements vorstellen und praxisnahe Hinweise für die Umsetzung geben. \nTermin: 09. Juli 2021\nUhrzeit: 10.00 – 12:00 Uhr per GoTo Meeting\nKosten: Die Veranstaltung ist kostenfrei!\nTermin: 26. August 2021\nUhrzeit: 10.00 – 12:00 Uhr per GoTo Meeting\nKosten: Die Veranstaltung ist kostenfrei!\nTermin: 17. September 2021\nUhrzeit: 10.00 – 12:00 Uhr per GoTo Meeting\nKosten: Die Veranstaltung ist kostenfrei! \nAgenda: \n(1) Einführung\nDozent Herr Roland Hein \n(2) Anforderungen der MaRisk und BAIT an das IT-Notfallmanagement\nDozent Herr Thomas Schulte \n(3) Projektbegleitung im IT-Notfallmanagement\nDozent Herr Dr. Sebastian Brauer \n(4) IT-Notfallmanagement in bit-MaRisk\nDozent Herr Roland Hein \n(5) Beantwortung von Fragen der Teilnehmer/innen \nIm Anschluss zum Webinar erhalten Sie die von uns verwendeten Präsentationen.  \nWir freuen uns\, Sie als Teilnehmer/-in unseres Webinars begrüßen zu dürfen!  \nGrüße aus Trier sowie Hamburg und bleiben Sie gesund. \n
URL:https://www.bit-informatik.de/event/it-notfallmanagement-mit-bit-marisk-3/
END:VEVENT
END:VCALENDAR